BEGIN:VCALENDAR
VERSION:2.0
PRODID:-// - ECPv6.15.20//NONSGML v1.0//EN
CALSCALE:GREGORIAN
METHOD:PUBLISH
X-ORIGINAL-URL:https://pdcca.com
X-WR-CALDESC:Events for 
REFRESH-INTERVAL;VALUE=DURATION:PT1H
X-Robots-Tag:noindex
X-PUBLISHED-TTL:PT1H
BEGIN:VTIMEZONE
TZID:America/Los_Angeles
BEGIN:DAYLIGHT
TZOFFSETFROM:-0800
TZOFFSETTO:-0700
TZNAME:PDT
DTSTART:20250309T100000
END:DAYLIGHT
BEGIN:STANDARD
TZOFFSETFROM:-0700
TZOFFSETTO:-0800
TZNAME:PST
DTSTART:20251102T090000
END:STANDARD
BEGIN:DAYLIGHT
TZOFFSETFROM:-0800
TZOFFSETTO:-0700
TZNAME:PDT
DTSTART:20260308T100000
END:DAYLIGHT
BEGIN:STANDARD
TZOFFSETFROM:-0700
TZOFFSETTO:-0800
TZNAME:PST
DTSTART:20261101T090000
END:STANDARD
BEGIN:DAYLIGHT
TZOFFSETFROM:-0800
TZOFFSETTO:-0700
TZNAME:PDT
DTSTART:20270314T100000
END:DAYLIGHT
BEGIN:STANDARD
TZOFFSETFROM:-0700
TZOFFSETTO:-0800
TZNAME:PST
DTSTART:20271107T090000
END:STANDARD
END:VTIMEZONE
BEGIN:VEVENT
DTSTART;TZID=America/Los_Angeles:20260423T060000
DTEND;TZID=America/Los_Angeles:20260423T073000
DTSTAMP:20260423T183051
CREATED:20260116T195624Z
LAST-MODIFIED:20260423T142457Z
UID:6219-1776924000-1776929400@pdcca.com
SUMMARY:6:30AM- AA GROUP
DESCRIPTION:
URL:https://pdcca.com/event/630am-aa-group-616/
LOCATION:AMH
END:VEVENT
BEGIN:VEVENT
DTSTART;TZID=America/Los_Angeles:20260423T070000
DTEND;TZID=America/Los_Angeles:20260423T083000
DTSTAMP:20260423T183051
CREATED:20260408T070956Z
LAST-MODIFIED:20260409T065452Z
UID:7475-1776927600-1776933000@pdcca.com
SUMMARY:6:30AM- AA GROUP
DESCRIPTION:
URL:https://pdcca.com/event/630am-aa-group-715/
LOCATION:AMH
END:VEVENT
BEGIN:VEVENT
DTSTART;TZID=America/Los_Angeles:20260423T090000
DTEND;TZID=America/Los_Angeles:20260423T103000
DTSTAMP:20260423T183051
CREATED:20260117T195723Z
LAST-MODIFIED:20260423T172557Z
UID:6225-1776934800-1776940200@pdcca.com
SUMMARY:JAZZERCISE
DESCRIPTION:
URL:https://pdcca.com/event/jazzercise-425/
LOCATION:AMH
END:VEVENT
BEGIN:VEVENT
DTSTART;TZID=America/Los_Angeles:20260423T180000
DTEND;TZID=America/Los_Angeles:20260423T193000
DTSTAMP:20260423T183051
CREATED:20260117T195723Z
LAST-MODIFIED:20260424T001128Z
UID:6226-1776967200-1776972600@pdcca.com
SUMMARY:EVENING JAZZERCISE
DESCRIPTION:
URL:https://pdcca.com/event/evening-jazzercise-239/
LOCATION:AMH
END:VEVENT
BEGIN:VEVENT
DTSTART;TZID=America/Los_Angeles:20260423T193000
DTEND;TZID=America/Los_Angeles:20260423T213000
DTSTAMP:20260423T183051
CREATED:20260117T195723Z
LAST-MODIFIED:20260424T001128Z
UID:6227-1776972600-1776979800@pdcca.com
SUMMARY:WE CARE PALM DESERT CA GROUP
DESCRIPTION:
URL:https://pdcca.com/event/we-care-palm-desert-ca-group-60/
LOCATION:AMH
END:VEVENT
END:VCALENDAR