BEGIN:VCALENDAR
VERSION:2.0
PRODID:-// - ECPv6.15.20//NONSGML v1.0//EN
CALSCALE:GREGORIAN
METHOD:PUBLISH
X-ORIGINAL-URL:https://pdcca.com
X-WR-CALDESC:Events for 
REFRESH-INTERVAL;VALUE=DURATION:PT1H
X-Robots-Tag:noindex
X-PUBLISHED-TTL:PT1H
BEGIN:VTIMEZONE
TZID:America/Los_Angeles
BEGIN:DAYLIGHT
TZOFFSETFROM:-0800
TZOFFSETTO:-0700
TZNAME:PDT
DTSTART:20250309T100000
END:DAYLIGHT
BEGIN:STANDARD
TZOFFSETFROM:-0700
TZOFFSETTO:-0800
TZNAME:PST
DTSTART:20251102T090000
END:STANDARD
BEGIN:DAYLIGHT
TZOFFSETFROM:-0800
TZOFFSETTO:-0700
TZNAME:PDT
DTSTART:20260308T100000
END:DAYLIGHT
BEGIN:STANDARD
TZOFFSETFROM:-0700
TZOFFSETTO:-0800
TZNAME:PST
DTSTART:20261101T090000
END:STANDARD
BEGIN:DAYLIGHT
TZOFFSETFROM:-0800
TZOFFSETTO:-0700
TZNAME:PDT
DTSTART:20270314T100000
END:DAYLIGHT
BEGIN:STANDARD
TZOFFSETFROM:-0700
TZOFFSETTO:-0800
TZNAME:PST
DTSTART:20271107T090000
END:STANDARD
END:VTIMEZONE
BEGIN:VEVENT
DTSTART;TZID=America/Los_Angeles:20260421T060000
DTEND;TZID=America/Los_Angeles:20260421T073000
DTSTAMP:20260421T043756
CREATED:20260115T195631Z
LAST-MODIFIED:20260421T112455Z
UID:6209-1776751200-1776756600@pdcca.com
SUMMARY:6:30AM- AA GROUP
DESCRIPTION:
URL:https://pdcca.com/event/630am-aa-group-614/
LOCATION:AMH
END:VEVENT
BEGIN:VEVENT
DTSTART;TZID=America/Los_Angeles:20260421T070000
DTEND;TZID=America/Los_Angeles:20260421T083000
DTSTAMP:20260421T043756
CREATED:20260408T070955Z
LAST-MODIFIED:20260409T065452Z
UID:7473-1776754800-1776760200@pdcca.com
SUMMARY:6:30AM- AA GROUP
DESCRIPTION:
URL:https://pdcca.com/event/630am-aa-group-713/
LOCATION:AMH
END:VEVENT
BEGIN:VEVENT
DTSTART;TZID=America/Los_Angeles:20260421T090000
DTEND;TZID=America/Los_Angeles:20260421T103000
DTSTAMP:20260421T043756
CREATED:20260115T195632Z
LAST-MODIFIED:20260421T112455Z
UID:6210-1776762000-1776767400@pdcca.com
SUMMARY:JAZZERCISE
DESCRIPTION:
URL:https://pdcca.com/event/jazzercise-423/
LOCATION:AMH
END:VEVENT
BEGIN:VEVENT
DTSTART;TZID=America/Los_Angeles:20260421T110000
DTEND;TZID=America/Los_Angeles:20260421T123000
DTSTAMP:20260421T043756
CREATED:20260401T184038Z
LAST-MODIFIED:20260421T112455Z
UID:6798-1776769200-1776774600@pdcca.com
SUMMARY:School
DESCRIPTION:
URL:https://pdcca.com/event/school-3/
END:VEVENT
BEGIN:VEVENT
DTSTART;TZID=America/Los_Angeles:20260421T180000
DTEND;TZID=America/Los_Angeles:20260421T193000
DTSTAMP:20260421T043756
CREATED:20260115T195632Z
LAST-MODIFIED:20260421T112455Z
UID:6211-1776794400-1776799800@pdcca.com
SUMMARY:EVENING JAZZERCISE
DESCRIPTION:
URL:https://pdcca.com/event/evening-jazzercise-237/
LOCATION:AMH
END:VEVENT
END:VCALENDAR