BEGIN:VCALENDAR
VERSION:2.0
PRODID:-// - ECPv6.15.20//NONSGML v1.0//EN
CALSCALE:GREGORIAN
METHOD:PUBLISH
X-ORIGINAL-URL:https://pdcca.com
X-WR-CALDESC:Events for 
REFRESH-INTERVAL;VALUE=DURATION:PT1H
X-Robots-Tag:noindex
X-PUBLISHED-TTL:PT1H
BEGIN:VTIMEZONE
TZID:America/Los_Angeles
BEGIN:DAYLIGHT
TZOFFSETFROM:-0800
TZOFFSETTO:-0700
TZNAME:PDT
DTSTART:20250309T100000
END:DAYLIGHT
BEGIN:STANDARD
TZOFFSETFROM:-0700
TZOFFSETTO:-0800
TZNAME:PST
DTSTART:20251102T090000
END:STANDARD
BEGIN:DAYLIGHT
TZOFFSETFROM:-0800
TZOFFSETTO:-0700
TZNAME:PDT
DTSTART:20260308T100000
END:DAYLIGHT
BEGIN:STANDARD
TZOFFSETFROM:-0700
TZOFFSETTO:-0800
TZNAME:PST
DTSTART:20261101T090000
END:STANDARD
BEGIN:DAYLIGHT
TZOFFSETFROM:-0800
TZOFFSETTO:-0700
TZNAME:PDT
DTSTART:20270314T100000
END:DAYLIGHT
BEGIN:STANDARD
TZOFFSETFROM:-0700
TZOFFSETTO:-0800
TZNAME:PST
DTSTART:20271107T090000
END:STANDARD
END:VTIMEZONE
BEGIN:VEVENT
DTSTART;TZID=America/Los_Angeles:20260419T060000
DTEND;TZID=America/Los_Angeles:20260419T073000
DTSTAMP:20260421T014805
CREATED:20260113T193152Z
LAST-MODIFIED:20260419T142453Z
UID:6192-1776578400-1776583800@pdcca.com
SUMMARY:6:30AM- AA GROUP
DESCRIPTION:
URL:https://pdcca.com/event/630am-aa-group-612/
LOCATION:AMH
END:VEVENT
BEGIN:VEVENT
DTSTART;TZID=America/Los_Angeles:20260419T070000
DTEND;TZID=America/Los_Angeles:20260419T083000
DTSTAMP:20260421T014805
CREATED:20260408T070955Z
LAST-MODIFIED:20260409T065451Z
UID:7471-1776582000-1776587400@pdcca.com
SUMMARY:6:30AM- AA GROUP
DESCRIPTION:
URL:https://pdcca.com/event/630am-aa-group-711/
LOCATION:AMH
END:VEVENT
BEGIN:VEVENT
DTSTART;TZID=America/Los_Angeles:20260419T083000
DTEND;TZID=America/Los_Angeles:20260419T103000
DTSTAMP:20260421T014805
CREATED:20260113T193153Z
LAST-MODIFIED:20260419T172453Z
UID:6193-1776587400-1776594600@pdcca.com
SUMMARY:Sunday Morning Serenity
DESCRIPTION:
URL:https://pdcca.com/event/sunday-morning-serenity-89/
END:VEVENT
BEGIN:VEVENT
DTSTART;TZID=America/Los_Angeles:20260419T093000
DTEND;TZID=America/Los_Angeles:20260419T113000
DTSTAMP:20260421T014805
CREATED:20260402T072648Z
LAST-MODIFIED:20260409T065451Z
UID:6878-1776591000-1776598200@pdcca.com
SUMMARY:Sunday Morning Serenity
DESCRIPTION:
URL:https://pdcca.com/event/sunday-morning-serenity-103/
END:VEVENT
END:VCALENDAR